BEGIN:VCALENDAR
VERSION:2.0
PRODID:Douglas County Library, MN Calendar Creator
METHOD:PUBLISH
BEGIN:VEVENT
DTSTAMP:20241223T075130
DTSTART:20250212T103000
DTEND:20250212T110000
SUMMARY:Preschool Storytime
DESCRIPTION:<p>Preschool storytime is for children ages 3-5. No registration required!<br><br>Stories come alive with books, puppets, rhymes, and songs! This program is designed to support early literacy skills in preschoolers, while encouraging them to love books at an early age.<br><br>Siblings are welcome to attend.</p><p>&nbsp;</p>
X-ALT-DESC;FMTTYPE=text/html:<p>Preschool storytime is for children ages 3-5. No registration required!<br><br>Stories come alive with books, puppets, rhymes, and songs! This program is designed to support early literacy skills in preschoolers, while encouraging them to love books at an early age.<br><br>Siblings are welcome to attend.</p><p>&nbsp;</p>
LOCATION:Douglas County Library\, 720 Filmore Street Alexandria\, Minnesota 56308
CLASS:PUBLIC
END:VEVENT
END:VCALENDAR
