BEGIN:VCALENDAR
VERSION:2.0
PRODID:Douglas County Library, MN Calendar Creator
METHOD:PUBLISH
BEGIN:VEVENT
DTSTAMP:20250214T061859
DTSTART:20251124T180000
DTEND:20251124T193000
SUMMARY:Friends of the Library Book Club
DESCRIPTION:<p>The Friends of the Library Book Club meets at the library from 6:30-7:45 to discuss the following titles throughout the year:</p><p>(Please note, discussions could be held via Zoom if inclement weather occurs.)</p><p>2025 Book Discussion Titles and Dates</p><ul>    <li>January 27: The Women by Kristen Hannah</li>    <li>February 24:The River We Remember by William Kent Krueger</li>    <li>March 24: My Grandmother Told Me to Tell You She is Sorry by Fredrik Backman</li>    <li>April 28: The Frozen River by Ariel Lawhon</li>    <li>May 19: The Last Thing He Told Me by Laura Dave</li>    <li>June 23: Tomorrow, and Tomorrow, and Tomorrow by Gabrielle Zevin</li>    <li>July 28: The Briar Club by Kate Quinn</li>    <li>August 25: The Book of Lost Names by Kristin Harmel</li>    <li>September 22: West with Giraffes by Linda Rutledge</li>    <li>October 27: My Sister's Keeper by Jodi Picoult</li>    <li>November 24: Our Missing Hearts by Celeste Ng</li>    <li>December 22: The Stolen Hours by Allen Eskens&nbsp;</li></ul><p>Please contact dclfriendsmn@gmail.com for questions.</p>
X-ALT-DESC;FMTTYPE=text/html:<p>The Friends of the Library Book Club meets at the library from 6:30-7:45 to discuss the following titles throughout the year:</p><p>(Please note, discussions could be held via Zoom if inclement weather occurs.)</p><p>2025 Book Discussion Titles and Dates</p><ul>    <li>January 27: The Women by Kristen Hannah</li>    <li>February 24:The River We Remember by William Kent Krueger</li>    <li>March 24: My Grandmother Told Me to Tell You She is Sorry by Fredrik Backman</li>    <li>April 28: The Frozen River by Ariel Lawhon</li>    <li>May 19: The Last Thing He Told Me by Laura Dave</li>    <li>June 23: Tomorrow, and Tomorrow, and Tomorrow by Gabrielle Zevin</li>    <li>July 28: The Briar Club by Kate Quinn</li>    <li>August 25: The Book of Lost Names by Kristin Harmel</li>    <li>September 22: West with Giraffes by Linda Rutledge</li>    <li>October 27: My Sister's Keeper by Jodi Picoult</li>    <li>November 24: Our Missing Hearts by Celeste Ng</li>    <li>December 22: The Stolen Hours by Allen Eskens&nbsp;</li></ul><p>Please contact dclfriendsmn@gmail.com for questions.</p>
LOCATION:Douglas County Library\, 720 Filmore Street Alexandria\, Minnesota 56308
CLASS:PUBLIC
END:VEVENT
END:VCALENDAR
