BEGIN:VCALENDAR
VERSION:2.0
PRODID:Douglas County Library, MN Calendar Creator
METHOD:PUBLISH
BEGIN:VEVENT
DTSTAMP:20241210T144539
DTSTART:20251112T130000
DTEND:20251112T140000
SUMMARY:Douglas County Library Book Group
DESCRIPTION:<p>The Douglas County Library Book Group meets the 2nd Wednesday of each month at 1:00 pm.</p><p>Open to the public!</p><p>2025 reads:</p><ul>    <li>January 15 - Remarkably Bright Creatures by Shelby Van Pelt</li>    <li>February 12 -The Heaven &amp; Earth Grocery Store by James McBride</li>    <li>March 12 - March by Geraldine Brooks</li>    <li>April 9 - By Any Other Name by Jodi Picoult</li>    <li>May 14 - Fresh Water for Flowers by Valérie Perrin</li>    <li>June 11 - The Wager by David Grann</li>    <li>July 9 - Vera Wong's Unsolicited Advice for Murderers by Jesse Q. Sutanto</li>    <li>August 13 - West with Giraffes by Lynda Rutledge</li>    <li>September 10 - The Wind Knows My Name by Isabel Allende</li>    <li>October 8 - The Five Wishes of Mr. Murray McBride by Joe Siple</li>    <li>November 12 - The Berry Pickers by Amanda Peters</li>    <li>December 10 - The Frozen River by Ariel Lawhon</li></ul>
X-ALT-DESC;FMTTYPE=text/html:<p>The Douglas County Library Book Group meets the 2nd Wednesday of each month at 1:00 pm.</p><p>Open to the public!</p><p>2025 reads:</p><ul>    <li>January 15 - Remarkably Bright Creatures by Shelby Van Pelt</li>    <li>February 12 -The Heaven &amp; Earth Grocery Store by James McBride</li>    <li>March 12 - March by Geraldine Brooks</li>    <li>April 9 - By Any Other Name by Jodi Picoult</li>    <li>May 14 - Fresh Water for Flowers by Valérie Perrin</li>    <li>June 11 - The Wager by David Grann</li>    <li>July 9 - Vera Wong's Unsolicited Advice for Murderers by Jesse Q. Sutanto</li>    <li>August 13 - West with Giraffes by Lynda Rutledge</li>    <li>September 10 - The Wind Knows My Name by Isabel Allende</li>    <li>October 8 - The Five Wishes of Mr. Murray McBride by Joe Siple</li>    <li>November 12 - The Berry Pickers by Amanda Peters</li>    <li>December 10 - The Frozen River by Ariel Lawhon</li></ul>
LOCATION:Douglas County Library\, 720 Filmore Street Alexandria\, Minnesota 56308
CLASS:PUBLIC
END:VEVENT
END:VCALENDAR
