BEGIN:VCALENDAR
VERSION:2.0
PRODID:Douglas County Library, MN Calendar Creator
METHOD:PUBLISH
BEGIN:VEVENT
DTSTAMP:20241127T063803
DTSTART:20241210T130000
DTEND:20241210T140000
SUMMARY:Miniature Book Ornaments
DESCRIPTION:<p>A second event by popular demand!&nbsp;</p><p>Create delightful miniature book ornaments! These tiny treasures can be personalized with titles provided by you, making each ornament truly unique. Whether they feature beloved classics or your personal favorites, these ornaments are perfect for book lovers and holiday enthusiasts alike!</p><p>Monday, December 10 @ 1:00 pm<br>Large Meeting Room</p><p><strong><a href="https://douglascountylibrary.libcal.com/event/13644176" target="_blank">Register Here</a></strong></p><p><strong>&nbsp;</strong></p><p></p>
X-ALT-DESC;FMTTYPE=text/html:<p>A second event by popular demand!&nbsp;</p><p>Create delightful miniature book ornaments! These tiny treasures can be personalized with titles provided by you, making each ornament truly unique. Whether they feature beloved classics or your personal favorites, these ornaments are perfect for book lovers and holiday enthusiasts alike!</p><p>Monday, December 10 @ 1:00 pm<br>Large Meeting Room</p><p><strong><a href="https://douglascountylibrary.libcal.com/event/13644176" target="_blank">Register Here</a></strong></p><p><strong>&nbsp;</strong></p><p></p>
LOCATION:Douglas County Library\, 720 Filmore Street Alexandria\, Minnesota 56308
CLASS:PUBLIC
END:VEVENT
END:VCALENDAR
