BEGIN:VCALENDAR
VERSION:2.0
PRODID:Douglas County Library, MN Calendar Creator
METHOD:PUBLISH
BEGIN:VEVENT
DTSTAMP:20241121T152530
DTSTART:20241216T130000
DTEND:20241216T140000
SUMMARY:Woodland Ornaments
DESCRIPTION:<p>Join us for a cozy craft as we make wooden ornaments featuring woodland scenes! This event features a set of ornaments shaped like a moose, bison, and bear, each with a background of woodsy mountains. All supplies will be provided.</p><p>December 16 @ 1:00 pm<br>Large Meeting Room</p><p><a href="https://douglascountylibrary.libcal.com/event/13377621" target="_blank">Register here&nbsp;</a></p><p>&nbsp;</p><p></p>
X-ALT-DESC;FMTTYPE=text/html:<p>Join us for a cozy craft as we make wooden ornaments featuring woodland scenes! This event features a set of ornaments shaped like a moose, bison, and bear, each with a background of woodsy mountains. All supplies will be provided.</p><p>December 16 @ 1:00 pm<br>Large Meeting Room</p><p><a href="https://douglascountylibrary.libcal.com/event/13377621" target="_blank">Register here&nbsp;</a></p><p>&nbsp;</p><p></p>
LOCATION:Douglas County Library\, 720 Filmore Street Alexandria\, Minnesota 56308
CLASS:PUBLIC
END:VEVENT
END:VCALENDAR
