BEGIN:VCALENDAR
VERSION:2.0
PRODID:Douglas County Library, MN Calendar Creator
METHOD:PUBLISH
BEGIN:VEVENT
DTSTAMP:20241024T115108
DTSTART:20241114T130000
DTEND:20241114T140000
SUMMARY:Autumn
DESCRIPTION:<p>Pumpkins and pickups and owls! Oh, my!<br>We’ll be using paint in rich autumn hues and fall-patterned scrapbook paper to decorate some charming wood wall hangings.</p><p>Thursday, Nov. 14<br>1:00 PM TO 2:00 PM<br>Large Meeting Room</p><p>&nbsp;</p><p><a href="https://douglascountylibrary.libcal.com/event/13377571" target="_blank">Please register here.</a></p><p>&nbsp;</p><p>&nbsp;</p><p>&nbsp;</p>
X-ALT-DESC;FMTTYPE=text/html:<p>Pumpkins and pickups and owls! Oh, my!<br>We’ll be using paint in rich autumn hues and fall-patterned scrapbook paper to decorate some charming wood wall hangings.</p><p>Thursday, Nov. 14<br>1:00 PM TO 2:00 PM<br>Large Meeting Room</p><p>&nbsp;</p><p><a href="https://douglascountylibrary.libcal.com/event/13377571" target="_blank">Please register here.</a></p><p>&nbsp;</p><p>&nbsp;</p><p>&nbsp;</p>
LOCATION:Douglas County Library\, 720 Filmore Street Alexandria\, Minnesota 56308
CLASS:PUBLIC
END:VEVENT
END:VCALENDAR
