BEGIN:VCALENDAR
VERSION:2.0
PRODID:Douglas County Library, MN Calendar Creator
METHOD:PUBLISH
BEGIN:VEVENT
DTSTAMP:20240916T175011
DTSTART:20241009T100000
DTEND:20241009T140000
SUMMARY:Scan for Keeps!
DESCRIPTION:<p>Free Scanning Workshop</p><p>Bring your treasured family photos or letter-sized documents to be scanned and digitally preserved at this free community workshop hosted in the Douglas County Library's Large Meeting Room. Staff will scan your items and create digital copies for you to take home.</p><p>Appointments are available starting Monday, October 7 and going through Friday, October 18</p><p>Registration is required.<br>To register, please call 320-762-3014</p><p>&nbsp;</p>
X-ALT-DESC;FMTTYPE=text/html:<p>Free Scanning Workshop</p><p>Bring your treasured family photos or letter-sized documents to be scanned and digitally preserved at this free community workshop hosted in the Douglas County Library's Large Meeting Room. Staff will scan your items and create digital copies for you to take home.</p><p>Appointments are available starting Monday, October 7 and going through Friday, October 18</p><p>Registration is required.<br>To register, please call 320-762-3014</p><p>&nbsp;</p>
LOCATION:Douglas County Library\, 720 Filmore Street Alexandria\, Minnesota 56308
CLASS:PUBLIC
END:VEVENT
END:VCALENDAR
