BEGIN:VCALENDAR
VERSION:2.0
PRODID:Douglas County Library, MN Calendar Creator
METHOD:PUBLISH
BEGIN:VEVENT
DTSTAMP:20240916T173905
DTSTART:20241010T160000
DTEND:20241010T180000
SUMMARY:The Night Before Gettysburg
DESCRIPTION:<p>Actor and playwright Chuck Johnson presents a one-man, three-scene, one-act play, in which Abraham Lincoln finishes writing “The Gettysburg Address” in his bedroom the night before the speech. He is torn as he grapples with slavery, racism, war carnage and the deaths of two of his children; and recounts the battle as told to him by General Meade. Following the performance the audience is invited to ask questions, no holds barred.</p><p>Thursday, October 10 @ 4 pm</p><p>This event is free and open to the public. Registration is not required. Unless you want to receive email reminders about this event, in that case,<a href="https://douglascountylibrary.libcal.com/event/13161304" target="_blank"> register here.</a></p><p><div></div></p><p></p>
X-ALT-DESC;FMTTYPE=text/html:<p>Actor and playwright Chuck Johnson presents a one-man, three-scene, one-act play, in which Abraham Lincoln finishes writing “The Gettysburg Address” in his bedroom the night before the speech. He is torn as he grapples with slavery, racism, war carnage and the deaths of two of his children; and recounts the battle as told to him by General Meade. Following the performance the audience is invited to ask questions, no holds barred.</p><p>Thursday, October 10 @ 4 pm</p><p>This event is free and open to the public. Registration is not required. Unless you want to receive email reminders about this event, in that case,<a href="https://douglascountylibrary.libcal.com/event/13161304" target="_blank"> register here.</a></p><p><div></div></p><p></p>
LOCATION:Douglas County Library\, 720 Filmore Street Alexandria\, Minnesota 56308
CLASS:PUBLIC
END:VEVENT
END:VCALENDAR
