BEGIN:VCALENDAR
VERSION:2.0
PRODID:Douglas County Library, MN Calendar Creator
METHOD:PUBLISH
BEGIN:VEVENT
DTSTAMP:20241004T113540
DTSTART:20241026T090000
DTEND:20241026T113000
SUMMARY:Make Your Own Cozy Chunky Blaket
DESCRIPTION:<p><font class="subtitle">Make Your Own<br>Cozy Chunky Blanket</font></p><p> No needles required! Experienced crafter Grace Amundson will teach you to make a cozy chunky blanket using only your hands. Come join the fun!!</p><p direction-ltr="" align-center="" para-style-body"=""><span style="text-decoration: underline;"><strong>*You will need to purchase your own yarn*</strong></span><br>Bernat Blanket Big and Yarn Bee Eternal Bliss are recommended. You will need 6 skeins for a lap blanket or 8 skeins for single bed. Bernat Blanket Big (machine wash gentle) is available at Michaels, JoAnn, or Walmart. Yarn Bee Eternal Bliss (hand wash only) is available at Hobby Lobby or on Amazon.</p><p direction-ltr="" align-center="" para-style-body"="">Saturday, October 26<br>9:00 am OR 1:00 pm</p><p direction-ltr="" align-center="" para-style-body"=""><a href="https://douglascountylibrary.libcal.com" target="_blank">Please register here.</a></p><p direction-ltr="" align-center="" para-style-body"=""></p>
X-ALT-DESC;FMTTYPE=text/html:<p><font class="subtitle">Make Your Own<br>Cozy Chunky Blanket</font></p><p> No needles required! Experienced crafter Grace Amundson will teach you to make a cozy chunky blanket using only your hands. Come join the fun!!</p><p direction-ltr="" align-center="" para-style-body"=""><span style="text-decoration: underline;"><strong>*You will need to purchase your own yarn*</strong></span><br>Bernat Blanket Big and Yarn Bee Eternal Bliss are recommended. You will need 6 skeins for a lap blanket or 8 skeins for single bed. Bernat Blanket Big (machine wash gentle) is available at Michaels, JoAnn, or Walmart. Yarn Bee Eternal Bliss (hand wash only) is available at Hobby Lobby or on Amazon.</p><p direction-ltr="" align-center="" para-style-body"="">Saturday, October 26<br>9:00 am OR 1:00 pm</p><p direction-ltr="" align-center="" para-style-body"=""><a href="https://douglascountylibrary.libcal.com" target="_blank">Please register here.</a></p><p direction-ltr="" align-center="" para-style-body"=""></p>
LOCATION:Douglas County Library\, 720 Filmore Street Alexandria\, Minnesota 56308
CLASS:PUBLIC
END:VEVENT
END:VCALENDAR
