BEGIN:VCALENDAR
VERSION:2.0
PRODID:Douglas County Library, MN Calendar Creator
METHOD:PUBLISH
BEGIN:VEVENT
DTSTAMP:20240910T134614
DTSTART:20240923T130000
DTEND:20240923T140000
SUMMARY:Book Folding
DESCRIPTION:<p><span class="subtitle">Book Folding</span></p><p>Book folding is the art of folding pages in books to create book sculptures. Choose between classic folding or colored design folding. All materials will be provided. For a custom word or design, please stop by the Reference Desk.</p><p><strong>Monday, September 23<br>1:00 pm to 2:00 pm</strong></p><p><a href="https://douglascountylibrary.libcal.com/event/13160123" target="_blank">Please register here.</a></p><p></p>
X-ALT-DESC;FMTTYPE=text/html:<p><span class="subtitle">Book Folding</span></p><p>Book folding is the art of folding pages in books to create book sculptures. Choose between classic folding or colored design folding. All materials will be provided. For a custom word or design, please stop by the Reference Desk.</p><p><strong>Monday, September 23<br>1:00 pm to 2:00 pm</strong></p><p><a href="https://douglascountylibrary.libcal.com/event/13160123" target="_blank">Please register here.</a></p><p></p>
LOCATION:Douglas County Library\, 720 Filmore Street Alexandria\, Minnesota 56308
CLASS:PUBLIC
END:VEVENT
END:VCALENDAR
