BEGIN:VCALENDAR
VERSION:2.0
PRODID:Douglas County Library, MN Calendar Creator
METHOD:PUBLISH
BEGIN:VEVENT
DTSTAMP:20220726T121159
DTSTART:20221012T103000
DTEND:20221012T110000
SUMMARY:Preschool Storytime
DESCRIPTION:<p>Preschool storytime is for children ages 3-5. No registration required! </p><p>Stories come alive with books, puppets, rhymes, and songs! This program is designed to support early literacy skills in preschoolers, while encouraging them to love books at an early age.</p><p>Siblings are welcome to attend.</p><p>There will be no storytime on the following dates: 10/19, 11/23.</p>
X-ALT-DESC;FMTTYPE=text/html:<p>Preschool storytime is for children ages 3-5. No registration required! </p><p>Stories come alive with books, puppets, rhymes, and songs! This program is designed to support early literacy skills in preschoolers, while encouraging them to love books at an early age.</p><p>Siblings are welcome to attend.</p><p>There will be no storytime on the following dates: 10/19, 11/23.</p>
LOCATION:Douglas County Library\, 720 Filmore Street Alexandria\, Minnesota 56308
CLASS:PUBLIC
END:VEVENT
END:VCALENDAR
