BEGIN:VCALENDAR
VERSION:2.0
PRODID:Douglas County Library, MN Calendar Creator
METHOD:PUBLISH
BEGIN:VEVENT
DTSTAMP:20240910T132620
DTSTART:20241017T183000
DTEND:20241017T210000
SUMMARY:Author Hour with: Patty Wetterling & Joy Baker
DESCRIPTION:<p>Author Hour with: Patty Wetterling &amp; Joy Baker</p><p direction-ltr="" align-center="" para-style-body"="">On October 22, 1989, in the small town of St. Joseph, Minnesota, eleven-year-old Jacob Wetterling was kidnapped at gunpoint. Twenty-seven years later, on September 2, 2016, authorities were led to the boy’s remains.</p><p direction-ltr="" align-center="" para-style-body"="">What lies between is the riveting story of the search for Jacob Wetterling, told by his mother, Patty, and co-author Joy Baker. With down-to-earth candor, Patty details the investigation as it unfolds, discusses her family’s struggles, and shows how she maintained her energy and optimism.</p><p>Registration is requested, <a href="https://alexandria.ce.eleyo.com/course/9262/adult-fall-2024-summer-2025/author-hour-with-patty-wetterling-joy-baker#dcl201" target="_blank">please register here.</a>&nbsp;Or call <strong>320-762-3310</strong></p><p direction-ltr="" align-center="" para-style-body"="">Thursday, October 17 at 6:30 pm</p><p direction-ltr="" align-center="" para-style-body"="">Alexandria Area High School: Performing Arts Center<br>4300 Pioneer Rd SE, Alexandria, MN 56308</p><p>&nbsp;</p>
X-ALT-DESC;FMTTYPE=text/html:<p>Author Hour with: Patty Wetterling &amp; Joy Baker</p><p direction-ltr="" align-center="" para-style-body"="">On October 22, 1989, in the small town of St. Joseph, Minnesota, eleven-year-old Jacob Wetterling was kidnapped at gunpoint. Twenty-seven years later, on September 2, 2016, authorities were led to the boy’s remains.</p><p direction-ltr="" align-center="" para-style-body"="">What lies between is the riveting story of the search for Jacob Wetterling, told by his mother, Patty, and co-author Joy Baker. With down-to-earth candor, Patty details the investigation as it unfolds, discusses her family’s struggles, and shows how she maintained her energy and optimism.</p><p>Registration is requested, <a href="https://alexandria.ce.eleyo.com/course/9262/adult-fall-2024-summer-2025/author-hour-with-patty-wetterling-joy-baker#dcl201" target="_blank">please register here.</a>&nbsp;Or call <strong>320-762-3310</strong></p><p direction-ltr="" align-center="" para-style-body"="">Thursday, October 17 at 6:30 pm</p><p direction-ltr="" align-center="" para-style-body"="">Alexandria Area High School: Performing Arts Center<br>4300 Pioneer Rd SE, Alexandria, MN 56308</p><p>&nbsp;</p>
LOCATION:AAHS Performing Arts Center\, 4300 Pioneer Rd SE Alexandria\, Minnesota 56308
CLASS:PUBLIC
END:VEVENT
END:VCALENDAR
