BEGIN:VCALENDAR
VERSION:2.0
PRODID:Douglas County Library, MN Calendar Creator
METHOD:PUBLISH
BEGIN:VEVENT
DTSTAMP:20240820T122148
DTSTART:20240916T120000
DTEND:20240916T130000
SUMMARY:Taste of Belonging
DESCRIPTION:<p>&nbsp;We are celebrating Welcoming Week!</p><p>&nbsp;Join us for&nbsp;<strong>Taste of Belonging</strong>, our first annual community celebration of culinary culture. Stop in to taste a sample dish representing the cuisine of different countries and cultures worldwide. Be sure to come hungry!</p><p direction-ltr="" align-center="" para-style-body"="">&nbsp;</p><p direction-ltr="" align-center="" para-style-body"="">Want to share a taste of your culture or native country? Let us know!</p><p direction-ltr="" align-center="" para-style-body"="">Call 320-762-3014 to reserve a table.</p><p direction-ltr="" align-center="" para-style-body"="">Monday, September 16</p><p direction-ltr="" align-center="" para-style-body"="">12:00 pm - 1:00 pm</p><p></p>
X-ALT-DESC;FMTTYPE=text/html:<p>&nbsp;We are celebrating Welcoming Week!</p><p>&nbsp;Join us for&nbsp;<strong>Taste of Belonging</strong>, our first annual community celebration of culinary culture. Stop in to taste a sample dish representing the cuisine of different countries and cultures worldwide. Be sure to come hungry!</p><p direction-ltr="" align-center="" para-style-body"="">&nbsp;</p><p direction-ltr="" align-center="" para-style-body"="">Want to share a taste of your culture or native country? Let us know!</p><p direction-ltr="" align-center="" para-style-body"="">Call 320-762-3014 to reserve a table.</p><p direction-ltr="" align-center="" para-style-body"="">Monday, September 16</p><p direction-ltr="" align-center="" para-style-body"="">12:00 pm - 1:00 pm</p><p></p>
LOCATION:Douglas County Library\, 720 Filmore Street Alexandria\, Minnesota 56308
CLASS:PUBLIC
END:VEVENT
END:VCALENDAR
