BEGIN:VCALENDAR
VERSION:2.0
PRODID:Douglas County Library, MN Calendar Creator
METHOD:PUBLISH
BEGIN:VEVENT
DTSTAMP:20240716T144256
DTSTART:20240802T150000
DTEND:20240802T160000
SUMMARY:Author Hour
DESCRIPTION:<p>Calling all true crime enthusiasts!</p><p direction-ltr="" align-start="" para-style-body"="">Author and historian Jeffrey Sauve will talk about his book "Murder at Minnesota Point." Billed as the crime of the century in 1894, this is the true story of a young, unidentified woman found slain on the shores of Duluth.</p><p>This event is free and open to the public.</p><p direction-ltr="" align-center="" para-style-body"="">Registration is not required.</p><p direction-ltr="" align-center="" para-style-body"="">Unless you want to receive email reminders about this event, in that case,&nbsp;<a href="https://douglascountylibrary.libcal.com" target="_blank">register here.</a></p><p></p><p>&nbsp;</p>
X-ALT-DESC;FMTTYPE=text/html:<p>Calling all true crime enthusiasts!</p><p direction-ltr="" align-start="" para-style-body"="">Author and historian Jeffrey Sauve will talk about his book "Murder at Minnesota Point." Billed as the crime of the century in 1894, this is the true story of a young, unidentified woman found slain on the shores of Duluth.</p><p>This event is free and open to the public.</p><p direction-ltr="" align-center="" para-style-body"="">Registration is not required.</p><p direction-ltr="" align-center="" para-style-body"="">Unless you want to receive email reminders about this event, in that case,&nbsp;<a href="https://douglascountylibrary.libcal.com" target="_blank">register here.</a></p><p></p><p>&nbsp;</p>
LOCATION:Douglas County Library\, 720 Filmore Street Alexandria\, Minnesota 56308
CLASS:PUBLIC
END:VEVENT
END:VCALENDAR
