BEGIN:VCALENDAR
VERSION:2.0
PRODID:Douglas County Library, MN Calendar Creator
METHOD:PUBLISH
BEGIN:VEVENT
DTSTAMP:20240524T075818
DTSTART:20240603T170000
DTEND:20240603T180000
SUMMARY:Patriotic Magnets
DESCRIPTION:<p direction-ltr="" align-center="" para-style-body"="">Come decorate your own set of adorable, patriotic magnets. These cuties are cut, peeled, and ready to paint! </p><p direction-ltr="" align-center="" para-style-body"="">&nbsp;All materials supplied, limit 1 set.</p><p>Please register <a href="https://douglascountylibrary.libcal.com/event/12325124" target="_blank">HERE</a>.</p><p>&nbsp;</p><p></p>
X-ALT-DESC;FMTTYPE=text/html:<p direction-ltr="" align-center="" para-style-body"="">Come decorate your own set of adorable, patriotic magnets. These cuties are cut, peeled, and ready to paint! </p><p direction-ltr="" align-center="" para-style-body"="">&nbsp;All materials supplied, limit 1 set.</p><p>Please register <a href="https://douglascountylibrary.libcal.com/event/12325124" target="_blank">HERE</a>.</p><p>&nbsp;</p><p></p>
LOCATION:Douglas County Library\, 720 Filmore Street Alexandria\, Minnesota 56308
CLASS:PUBLIC
END:VEVENT
END:VCALENDAR
