BEGIN:VCALENDAR
VERSION:2.0
PRODID:Douglas County Library, MN Calendar Creator
METHOD:PUBLISH
BEGIN:VEVENT
DTSTAMP:20240508T122609
DTSTART:20240524T150000
DTEND:20240524T160000
SUMMARY:Can Koozies
DESCRIPTION:<p direction-ltr="" align-center="" para-style-body"="">Gear up for summer with these customized can koozies! </p><p direction-ltr="" align-center="" para-style-body"="">All materials provided, limit 1</p><p direction-ltr="" align-center="" para-style-body"="">Large Meeting Room</p><p direction-ltr="" align-center="" para-style-body"="">Friday, May 24</p><p direction-ltr="" align-center="" para-style-body"="">3 pm - 4 pm</p><p direction-ltr="" align-center="" para-style-body"="">Register here: <a href="https://douglascountylibrary.libcal.com/event/12325069" target="_blank">Can Koozies</a></p><p direction-ltr="" align-center="" para-style-body"="">&nbsp;</p><p>&nbsp;</p><p></p>
X-ALT-DESC;FMTTYPE=text/html:<p direction-ltr="" align-center="" para-style-body"="">Gear up for summer with these customized can koozies! </p><p direction-ltr="" align-center="" para-style-body"="">All materials provided, limit 1</p><p direction-ltr="" align-center="" para-style-body"="">Large Meeting Room</p><p direction-ltr="" align-center="" para-style-body"="">Friday, May 24</p><p direction-ltr="" align-center="" para-style-body"="">3 pm - 4 pm</p><p direction-ltr="" align-center="" para-style-body"="">Register here: <a href="https://douglascountylibrary.libcal.com/event/12325069" target="_blank">Can Koozies</a></p><p direction-ltr="" align-center="" para-style-body"="">&nbsp;</p><p>&nbsp;</p><p></p>
LOCATION:Douglas County Library\, 720 Filmore Street Alexandria\, Minnesota 56308
CLASS:PUBLIC
END:VEVENT
END:VCALENDAR
