BEGIN:VCALENDAR
VERSION:2.0
PRODID:Douglas County Library, MN Calendar Creator
METHOD:PUBLISH
BEGIN:VEVENT
DTSTAMP:20240802T094331
DTSTART:20240903T120000
DTEND:20240903T130000
SUMMARY:Tech Time at the Library
DESCRIPTION:<p>Join us every 4th Tuesday of the month for Tech Time!</p><p><strong>*August's Tech Time has been POSTPONED until the following week, Sept. 3rd.*</strong><br><br>These are basic technology/computer classes meant for adults and seniors looking to learn more about the devices, websites, and apps we use every day!</p><p>No registration required!</p><p>Classes will be held in the Small Conference Room (past the Children's Area) at Noon.</p><p>&nbsp;</p><p><strong>Upcoming Topics:</strong></p><p>September 3rd:</p><ul>    <li><strong>Your Best Friend, Google <br>    </strong>Google!&nbsp;It's the thing you type your questions in and where you check your email. But did you know it's also has a&nbsp;word processor? A slideshow and spreadsheet editor? How about online storage and file sharing? And all those things are free?! Come out to the library and learn about all the things Google can do!</li></ul>
X-ALT-DESC;FMTTYPE=text/html:<p>Join us every 4th Tuesday of the month for Tech Time!</p><p><strong>*August's Tech Time has been POSTPONED until the following week, Sept. 3rd.*</strong><br><br>These are basic technology/computer classes meant for adults and seniors looking to learn more about the devices, websites, and apps we use every day!</p><p>No registration required!</p><p>Classes will be held in the Small Conference Room (past the Children's Area) at Noon.</p><p>&nbsp;</p><p><strong>Upcoming Topics:</strong></p><p>September 3rd:</p><ul>    <li><strong>Your Best Friend, Google <br>    </strong>Google!&nbsp;It's the thing you type your questions in and where you check your email. But did you know it's also has a&nbsp;word processor? A slideshow and spreadsheet editor? How about online storage and file sharing? And all those things are free?! Come out to the library and learn about all the things Google can do!</li></ul>
LOCATION:Douglas County Library\, 720 Filmore Street Alexandria\, Minnesota 56308
CLASS:PUBLIC
END:VEVENT
END:VCALENDAR
