BEGIN:VCALENDAR
VERSION:2.0
PRODID:Douglas County Library, MN Calendar Creator
METHOD:PUBLISH
BEGIN:VEVENT
DTSTAMP:20240422T171705
DTSTART:20240620T180000
DTEND:20240620T190000
SUMMARY:Beginning Gardening
DESCRIPTION:<p>Permaculture educator Diana Cason will guide you through the beginning steps of gardening.</p><p>Thursday, June 20&nbsp;</p><p>6 pm - 7 pm</p><p>in the Large Meeting Room</p><p>&nbsp;</p><p></p>
X-ALT-DESC;FMTTYPE=text/html:<p>Permaculture educator Diana Cason will guide you through the beginning steps of gardening.</p><p>Thursday, June 20&nbsp;</p><p>6 pm - 7 pm</p><p>in the Large Meeting Room</p><p>&nbsp;</p><p></p>
LOCATION:Douglas County Library\, 720 Filmore Street Alexandria\, Minnesota 56308
CLASS:PUBLIC
END:VEVENT
END:VCALENDAR
