BEGIN:VCALENDAR
VERSION:2.0
PRODID:Douglas County Library, MN Calendar Creator
METHOD:PUBLISH
BEGIN:VEVENT
DTSTAMP:20240104T121944
DTSTART:20240120T100000
DTEND:20240120T140000
SUMMARY:Maker Lab: OPEN LAB
DESCRIPTION:<p direction-ltr="" align-center="" para-style-body"=""> It’s your turn to create!</p><p direction-ltr="" align-center="" para-style-body"="">Join us in the Maker Lab to start working on your project. Machines are available to use on a first come first served basis. Feel free to leave your 3D design with library staff for after-hours printing. Computers are available for those working on the design process. </p><p direction-ltr="" align-center="" para-style-body"="">&nbsp;Available equipment:</p><p direction-ltr="" align-center="" para-style-body"="">+ computers with design software</p><p direction-ltr="" align-center="" para-style-body"="">+ laser cutter and engraver</p><p direction-ltr="" align-center="" para-style-body"="">+ die-cutting machine</p><p direction-ltr="" align-center="" para-style-body"="">+ sublimation printer</p><p direction-ltr="" align-center="" para-style-body"="">+ 3D printer</p><p>&nbsp;</p><p>&nbsp;</p><p></p>
X-ALT-DESC;FMTTYPE=text/html:<p direction-ltr="" align-center="" para-style-body"=""> It’s your turn to create!</p><p direction-ltr="" align-center="" para-style-body"="">Join us in the Maker Lab to start working on your project. Machines are available to use on a first come first served basis. Feel free to leave your 3D design with library staff for after-hours printing. Computers are available for those working on the design process. </p><p direction-ltr="" align-center="" para-style-body"="">&nbsp;Available equipment:</p><p direction-ltr="" align-center="" para-style-body"="">+ computers with design software</p><p direction-ltr="" align-center="" para-style-body"="">+ laser cutter and engraver</p><p direction-ltr="" align-center="" para-style-body"="">+ die-cutting machine</p><p direction-ltr="" align-center="" para-style-body"="">+ sublimation printer</p><p direction-ltr="" align-center="" para-style-body"="">+ 3D printer</p><p>&nbsp;</p><p>&nbsp;</p><p></p>
LOCATION:Douglas County Library\, 720 Filmore Street Alexandria\, Minnesota 56308
CLASS:PUBLIC
END:VEVENT
END:VCALENDAR
