BEGIN:VCALENDAR
VERSION:2.0
PRODID:Douglas County Library, MN Calendar Creator
METHOD:PUBLISH
BEGIN:VEVENT
DTSTAMP:20231129T103211
DTSTART:20240325T183000
DTEND:20240325T200000
SUMMARY:Friends of the Library Book Club
DESCRIPTION:<p>The Friends of the Library Book Club meets at the library from 6:30-8:00 to discuss the following titles throughout the year:</p><p>(Please note, discussions could be held via Zoom if inclement weather occurs.)</p><p>2024 Book Discussion Titles and Dates</p><ul>    <li>January 22: Homecoming by Kate Morton</li>    <li>February 26: The Night Watchman by Louise Erdrich</li>    <li>March 25: The Children's Blizzard by Melanie Benjamin</li>    <li>April 22: Verity by Colleen Hoover</li>    <li>May 20:Cilka's Journey by Heather Morris</li>    <li>June 24: Demon Copperhead by Barbara Kingsolver</li>    <li>July 22: The Seed Keeper by Diane Wilson</li>    <li>August 26: The First Ladies by Marie Benedict</li>    <li>September 23: Sea of Tranquility by Emily St. John Mandel</li>    <li>October 28: Remarkably Bright Creatures by Shelby Van Pelt</li>    <li>November 25: Plainsong by Kent Haruf</li>    <li>December 16: The Stranger in the Lifeboat by Mitch Albom</li></ul><p>&nbsp;</p>
X-ALT-DESC;FMTTYPE=text/html:<p>The Friends of the Library Book Club meets at the library from 6:30-8:00 to discuss the following titles throughout the year:</p><p>(Please note, discussions could be held via Zoom if inclement weather occurs.)</p><p>2024 Book Discussion Titles and Dates</p><ul>    <li>January 22: Homecoming by Kate Morton</li>    <li>February 26: The Night Watchman by Louise Erdrich</li>    <li>March 25: The Children's Blizzard by Melanie Benjamin</li>    <li>April 22: Verity by Colleen Hoover</li>    <li>May 20:Cilka's Journey by Heather Morris</li>    <li>June 24: Demon Copperhead by Barbara Kingsolver</li>    <li>July 22: The Seed Keeper by Diane Wilson</li>    <li>August 26: The First Ladies by Marie Benedict</li>    <li>September 23: Sea of Tranquility by Emily St. John Mandel</li>    <li>October 28: Remarkably Bright Creatures by Shelby Van Pelt</li>    <li>November 25: Plainsong by Kent Haruf</li>    <li>December 16: The Stranger in the Lifeboat by Mitch Albom</li></ul><p>&nbsp;</p>
LOCATION:Douglas County Library\, 720 Filmore Street Alexandria\, Minnesota 56308
CLASS:PUBLIC
END:VEVENT
END:VCALENDAR
