BEGIN:VCALENDAR
VERSION:2.0
PRODID:Douglas County Library, MN Calendar Creator
METHOD:PUBLISH
BEGIN:VEVENT
DTSTAMP:20231127T163219
DTSTART:20241113T130000
DTEND:20241113T140000
SUMMARY:Douglas County Library Book Group
DESCRIPTION:<p>The Douglas County Library Book Group meets the 2nd Wednesday of each month at 1:00 pm.</p><p>Open to the public!</p><p>2024 reads:</p><ul>    <li>January 10 - The Diamond Eye by Kate Quinn</li>    <li>February 14 - House of Eve by Sadeqa Johnson</li>    <li>March 13 - The Little Village of Book Lovers by Nina George</li>    <li>April 10 - Our Missing Hearts by Celeste Ng</li>    <li>May 8 - Flat Broke with Two Goats by Jennifer McGaha</li>    <li>June 12 - The Left Hand of Darkness by Ursula Le Guin</li>    <li>July 10 - The Villa by Rachel Hawkins</li>    <li>August 14 - The Thread Collectors by Shaunna Edwards &amp; Alyson Richman</li>    <li>September 11 - Family Lore by Acevedo</li>    <li>October 9 - Looking For Alaska by John Green</li>    <li>November 13 - The Haunting of Maddy Clare by Simone St. James</li>    <li>December 11 - And Finally by Henry Marsh</li></ul>
X-ALT-DESC;FMTTYPE=text/html:<p>The Douglas County Library Book Group meets the 2nd Wednesday of each month at 1:00 pm.</p><p>Open to the public!</p><p>2024 reads:</p><ul>    <li>January 10 - The Diamond Eye by Kate Quinn</li>    <li>February 14 - House of Eve by Sadeqa Johnson</li>    <li>March 13 - The Little Village of Book Lovers by Nina George</li>    <li>April 10 - Our Missing Hearts by Celeste Ng</li>    <li>May 8 - Flat Broke with Two Goats by Jennifer McGaha</li>    <li>June 12 - The Left Hand of Darkness by Ursula Le Guin</li>    <li>July 10 - The Villa by Rachel Hawkins</li>    <li>August 14 - The Thread Collectors by Shaunna Edwards &amp; Alyson Richman</li>    <li>September 11 - Family Lore by Acevedo</li>    <li>October 9 - Looking For Alaska by John Green</li>    <li>November 13 - The Haunting of Maddy Clare by Simone St. James</li>    <li>December 11 - And Finally by Henry Marsh</li></ul>
LOCATION:Douglas County Library\, 720 Filmore Street Alexandria\, Minnesota 56308
CLASS:PUBLIC
END:VEVENT
END:VCALENDAR
