BEGIN:VCALENDAR
VERSION:2.0
PRODID:Douglas County Library, MN Calendar Creator
METHOD:PUBLISH
BEGIN:VEVENT
DTSTAMP:20220726T121140
DTSTART:20220827T103000
DTEND:20220827T113000
SUMMARY:Paint a 3D animal!
DESCRIPTION:<p>This event is for kids ages 3 and older. All children welcome. Paint a simple 3D animal to put on display in your home.</p><p>Registration is required. <a href="https://douglascountylibrary.libcal.com/event/9375360" target="_blank" title="Please register here.">Please register here.</a></p>
X-ALT-DESC;FMTTYPE=text/html:<p>This event is for kids ages 3 and older. All children welcome. Paint a simple 3D animal to put on display in your home.</p><p>Registration is required. <a href="https://douglascountylibrary.libcal.com/event/9375360" target="_blank" title="Please register here.">Please register here.</a></p>
LOCATION:Douglas County Library\, 720 Filmore Street Alexandria\, Minnesota 56308
CLASS:PUBLIC
END:VEVENT
END:VCALENDAR
