BEGIN:VCALENDAR
VERSION:2.0
PRODID:Douglas County Library, MN Calendar Creator
METHOD:PUBLISH
BEGIN:VEVENT
DTSTAMP:20231228T144843
DTSTART:20231228T180000
DTEND:20231228T200000
SUMMARY:18+ Super Smash Bros Tournament
DESCRIPTION:<p>CANCELED&nbsp;</p><p>&nbsp;</p><p>Test your skills againt other Adults in Super Smash Bros. Ultimate!</p><p>Take part in an 8 player, double-elimination tournament at the Library on Dec. 28th.</p><p>Tournament will take place in the Large Conference Room at 6 PM</p><p>Prizes will be awarded to the top 3 finishers!</p><p>Registration is REQUIRED</p><p>Register <a href="https://douglascountylibrary.libcal.com/event/11612870" target="_blank">HERE</a></p><p>&nbsp;</p><p><em>Note: This is a separate event from the Teen Tournaments and is for Adults 18 years and over.</em></p>
X-ALT-DESC;FMTTYPE=text/html:<p>CANCELED&nbsp;</p><p>&nbsp;</p><p>Test your skills againt other Adults in Super Smash Bros. Ultimate!</p><p>Take part in an 8 player, double-elimination tournament at the Library on Dec. 28th.</p><p>Tournament will take place in the Large Conference Room at 6 PM</p><p>Prizes will be awarded to the top 3 finishers!</p><p>Registration is REQUIRED</p><p>Register <a href="https://douglascountylibrary.libcal.com/event/11612870" target="_blank">HERE</a></p><p>&nbsp;</p><p><em>Note: This is a separate event from the Teen Tournaments and is for Adults 18 years and over.</em></p>
LOCATION:Douglas County Library\, 720 Filmore Street Alexandria\, Minnesota 56308
CLASS:PUBLIC
END:VEVENT
END:VCALENDAR
