BEGIN:VCALENDAR
VERSION:2.0
PRODID:Douglas County Library, MN Calendar Creator
METHOD:PUBLISH
BEGIN:VEVENT
DTSTAMP:20231121T065424
DTSTART:20231213T150000
DTEND:20231213T170000
SUMMARY:Book Folding
DESCRIPTION:<p>&nbsp;Book folding is the art of folding pages in books to create book sculptures. This is an eco-friendly craft that transforms used books into art. Choose between classic folding (pictured on left) or colored design folding (pictured on right). All materials will be provided. For a custom word or design, please stop by the Reference Desk or email yfredrickson@douglascountylibrary.org.</p><p>&nbsp;</p><p>Please register here: <a href="https://douglascountylibrary.libcal.com/event/11357993" target="_blank">Book Folding</a></p><p>&nbsp;</p><p>&nbsp;</p><p></p>
X-ALT-DESC;FMTTYPE=text/html:<p>&nbsp;Book folding is the art of folding pages in books to create book sculptures. This is an eco-friendly craft that transforms used books into art. Choose between classic folding (pictured on left) or colored design folding (pictured on right). All materials will be provided. For a custom word or design, please stop by the Reference Desk or email yfredrickson@douglascountylibrary.org.</p><p>&nbsp;</p><p>Please register here: <a href="https://douglascountylibrary.libcal.com/event/11357993" target="_blank">Book Folding</a></p><p>&nbsp;</p><p>&nbsp;</p><p></p>
LOCATION:Douglas County Library\, 720 Filmore Street Alexandria\, Minnesota 56308
CLASS:PUBLIC
END:VEVENT
END:VCALENDAR
