BEGIN:VCALENDAR
VERSION:2.0
PRODID:Douglas County Library, MN Calendar Creator
METHOD:PUBLISH
BEGIN:VEVENT
DTSTAMP:20220713T080807
DTSTART:20220811T133000
DTEND:20220811T143000
SUMMARY:Kids BINGO!
DESCRIPTION:<p>Play BINGO at the library and win some fun prizes! Registration is recommended for this event so Ms. Sarah knows how many people to prepare for. Open to kids of all ages.</p><p><a href="https://douglascountylibrary.libcal.com/event/9385240" target="_blank" title="Please register here.">Please register here.</a></p><p>Questions? Call the library at 320-762-3013.</p>
X-ALT-DESC;FMTTYPE=text/html:<p>Play BINGO at the library and win some fun prizes! Registration is recommended for this event so Ms. Sarah knows how many people to prepare for. Open to kids of all ages.</p><p><a href="https://douglascountylibrary.libcal.com/event/9385240" target="_blank" title="Please register here.">Please register here.</a></p><p>Questions? Call the library at 320-762-3013.</p>
LOCATION:Douglas County Library\, 720 Filmore Street Alexandria\, Minnesota 56308
CLASS:PUBLIC
END:VEVENT
END:VCALENDAR
