BEGIN:VCALENDAR
VERSION:2.0
PRODID:Douglas County Library, MN Calendar Creator
METHOD:PUBLISH
BEGIN:VEVENT
DTSTAMP:20231107T100400
DTSTART:20231118T120000
DTEND:20231118T150000
SUMMARY:Board Games!
DESCRIPTION:Join us in Celebrating International Games Month at the Douglas County Library! We will have various games available in the large Conference Room, but also feel free to bring your own and play!<br><br>All Ages and Skill levels Welcome!<br><br>Saturday Nov. 18th from Noon-3:00<br>Douglas County Library<br>720 Fillmore St.
X-ALT-DESC;FMTTYPE=text/html:Join us in Celebrating International Games Month at the Douglas County Library! We will have various games available in the large Conference Room, but also feel free to bring your own and play!<br><br>All Ages and Skill levels Welcome!<br><br>Saturday Nov. 18th from Noon-3:00<br>Douglas County Library<br>720 Fillmore St.
LOCATION:
CLASS:PUBLIC
END:VEVENT
END:VCALENDAR
