BEGIN:VCALENDAR
VERSION:2.0
PRODID:Douglas County Library, MN Calendar Creator
METHOD:PUBLISH
BEGIN:VEVENT
DTSTAMP:20231101T150203
DTSTART:20231117T140000
DTEND:20231117T160000
SUMMARY:Paint Your Own Holiday Sweater Mug
DESCRIPTION:<p direction-ltr="" align-center="" para-style-body"="">Ugly or cozy! Which will you choose?</p><p direction-ltr="" align-center="" para-style-body"="">Simply Ceramics is back this fall with sweater mugs for Teens and Adults. </p><p direction-ltr="" align-center="" para-style-body"="">Free! All materials provided.</p><p direction-ltr="" align-center="" para-style-body"="">Completed projects will be available to pick up 1-2 weeks after the event.</p><p direction-ltr="" align-center="" para-style-body"="">Limit 1 mug per person. Please register here: <a href="https://douglascountylibrary.libcal.com/event/11357966" target="_blank">Ceramic Holiday Sweater Mug</a></p><p>&nbsp;</p><p>&nbsp;</p><p></p>
X-ALT-DESC;FMTTYPE=text/html:<p direction-ltr="" align-center="" para-style-body"="">Ugly or cozy! Which will you choose?</p><p direction-ltr="" align-center="" para-style-body"="">Simply Ceramics is back this fall with sweater mugs for Teens and Adults. </p><p direction-ltr="" align-center="" para-style-body"="">Free! All materials provided.</p><p direction-ltr="" align-center="" para-style-body"="">Completed projects will be available to pick up 1-2 weeks after the event.</p><p direction-ltr="" align-center="" para-style-body"="">Limit 1 mug per person. Please register here: <a href="https://douglascountylibrary.libcal.com/event/11357966" target="_blank">Ceramic Holiday Sweater Mug</a></p><p>&nbsp;</p><p>&nbsp;</p><p></p>
LOCATION:Douglas County Library\, 720 Filmore Street Alexandria\, Minnesota 56308
CLASS:PUBLIC
END:VEVENT
END:VCALENDAR
