BEGIN:VCALENDAR
VERSION:2.0
PRODID:Douglas County Library, MN Calendar Creator
METHOD:PUBLISH
BEGIN:VEVENT
DTSTAMP:20220627T124419
DTSTART:20220712T183000
DTEND:20220712T190000
SUMMARY:Preschool Storytime via Zoom (Summer Session)
DESCRIPTION:<p><strong><a href="https://us02web.zoom.us/j/87368903095" target="_blank">Access ZOOM Storytime</a></strong></p><p>Preschool storytime is for children ages 3-6. No registration required! Stories come alive with books, puppets, rhymes, and songs! This program is designed to support early literacy skills in preschoolers, while encouraging them to love books at an early age.</p><p>The Summer Zoom storytime session will take place on Tuesday evenings at 6:30PM on the following dates:</p><ul>    <li>June 14 </li>    <li>June 28    </li>    <li>July 12 </li>    <li>July 26</li></ul><p><strong>Organizer</strong>:</p><p>Sarah Wethern<br>Youth Librarian<br>320-762-3013<br><a href="mailto:&#115;&#119;&#101;&#116;&#104;&#101;&#114;&#110;&#64;&#100;&#111;&#117;&#103;&#108;&#97;&#115;&#99;&#111;&#117;&#110;&#116;&#121;&#108;&#105;&#98;&#114;&#97;&#114;&#121;&#46;&#111;&#114;&#103;">swethern@douglascountylibrary.org</a></p>
X-ALT-DESC;FMTTYPE=text/html:<p><strong><a href="https://us02web.zoom.us/j/87368903095" target="_blank">Access ZOOM Storytime</a></strong></p><p>Preschool storytime is for children ages 3-6. No registration required! Stories come alive with books, puppets, rhymes, and songs! This program is designed to support early literacy skills in preschoolers, while encouraging them to love books at an early age.</p><p>The Summer Zoom storytime session will take place on Tuesday evenings at 6:30PM on the following dates:</p><ul>    <li>June 14 </li>    <li>June 28    </li>    <li>July 12 </li>    <li>July 26</li></ul><p><strong>Organizer</strong>:</p><p>Sarah Wethern<br>Youth Librarian<br>320-762-3013<br><a href="mailto:&#115;&#119;&#101;&#116;&#104;&#101;&#114;&#110;&#64;&#100;&#111;&#117;&#103;&#108;&#97;&#115;&#99;&#111;&#117;&#110;&#116;&#121;&#108;&#105;&#98;&#114;&#97;&#114;&#121;&#46;&#111;&#114;&#103;">swethern@douglascountylibrary.org</a></p>
LOCATION:ZOOM\, 
CLASS:PUBLIC
END:VEVENT
END:VCALENDAR
