BEGIN:VCALENDAR
VERSION:2.0
PRODID:Douglas County Library, MN Calendar Creator
METHOD:PUBLISH
BEGIN:VEVENT
DTSTAMP:20231025T104112
DTSTART:20231104T090000
DTEND:20231104T110000
SUMMARY:DIY Book Pumpkins
DESCRIPTION:<p direction-ltr="" align-center="" para-style-body"="">Come celebrate the autumn season with this creative pumpkin! Use recycled books, leaves, &amp; ribbon to craft your own unique book pumpkin.</p><p direction-ltr="" align-center="" para-style-body"="">&nbsp;</p><p direction-ltr="" align-center="" para-style-body"="">*Pick up your book on: Wednesday Nov. 1</p><p direction-ltr="" align-center="" para-style-body"="">&nbsp;</p><p direction-ltr="" align-center="" para-style-body"="">*Assemble &amp; decorate on: Saturday Nov. 4</p><p direction-ltr="" align-center="" para-style-body"="">9 am to 11am </p><p direction-ltr="" align-center="" para-style-body"="">Large Meeting Room</p><p direction-ltr="" align-center="" para-style-body"=""></p><p>Please register here: <a href="https://douglascountylibrary.libcal.com/event/11461364" target="_blank">DIY Book Pumpkins</a>&nbsp;</p><p>&nbsp;</p><p></p>
X-ALT-DESC;FMTTYPE=text/html:<p direction-ltr="" align-center="" para-style-body"="">Come celebrate the autumn season with this creative pumpkin! Use recycled books, leaves, &amp; ribbon to craft your own unique book pumpkin.</p><p direction-ltr="" align-center="" para-style-body"="">&nbsp;</p><p direction-ltr="" align-center="" para-style-body"="">*Pick up your book on: Wednesday Nov. 1</p><p direction-ltr="" align-center="" para-style-body"="">&nbsp;</p><p direction-ltr="" align-center="" para-style-body"="">*Assemble &amp; decorate on: Saturday Nov. 4</p><p direction-ltr="" align-center="" para-style-body"="">9 am to 11am </p><p direction-ltr="" align-center="" para-style-body"="">Large Meeting Room</p><p direction-ltr="" align-center="" para-style-body"=""></p><p>Please register here: <a href="https://douglascountylibrary.libcal.com/event/11461364" target="_blank">DIY Book Pumpkins</a>&nbsp;</p><p>&nbsp;</p><p></p>
LOCATION:Douglas County Library\, 720 Filmore Street Alexandria\, Minnesota 56308
CLASS:PUBLIC
END:VEVENT
END:VCALENDAR
