BEGIN:VCALENDAR
VERSION:2.0
PRODID:Douglas County Library, MN Calendar Creator
METHOD:PUBLISH
BEGIN:VEVENT
DTSTAMP:20231018T122624
DTSTART:20231023T160000
DTEND:20231023T180000
SUMMARY:Make your own Scent Diffuser
DESCRIPTION:
X-ALT-DESC;FMTTYPE=text/html:
LOCATION:Douglas County Library\, 720 Filmore Street Alexandria\, Minnesota 56308
CLASS:PUBLIC
END:VEVENT
END:VCALENDAR
