BEGIN:VCALENDAR
VERSION:2.0
PRODID:Douglas County Library, MN Calendar Creator
METHOD:PUBLISH
BEGIN:VEVENT
DTSTAMP:20231004T073319
DTSTART:20231016T140000
DTEND:20231016T150000
SUMMARY:Cute & Cozy Tile Coasters
DESCRIPTION:<p direction-ltr="" align-center="" para-style-body"="">Join us for an afternoon of coloring!</p><p direction-ltr="" align-center="" para-style-body"="">Use permanent markers to personalize these fall themed coasters made from engraved tile.</p><p direction-ltr="" align-center="" para-style-body"="">Registration is required, reserve your spot here: <a href="https://douglascountylibrary.libcal.com/event/11357838" target="_blank">Cute &amp; Cozy Tile Coasters</a>.</p>
X-ALT-DESC;FMTTYPE=text/html:<p direction-ltr="" align-center="" para-style-body"="">Join us for an afternoon of coloring!</p><p direction-ltr="" align-center="" para-style-body"="">Use permanent markers to personalize these fall themed coasters made from engraved tile.</p><p direction-ltr="" align-center="" para-style-body"="">Registration is required, reserve your spot here: <a href="https://douglascountylibrary.libcal.com/event/11357838" target="_blank">Cute &amp; Cozy Tile Coasters</a>.</p>
LOCATION:Douglas County Library\, 720 Filmore Street Alexandria\, Minnesota 56308
CLASS:PUBLIC
END:VEVENT
END:VCALENDAR
