BEGIN:VCALENDAR
VERSION:2.0
PRODID:Douglas County Library, MN Calendar Creator
METHOD:PUBLISH
BEGIN:VEVENT
DTSTAMP:20221020T070229
DTSTART:20221109T130000
DTEND:20221109T140000
SUMMARY:Library Book Club
DESCRIPTION:<p>Join the Douglas County Library Book Club! Meets the second Wednesday of every month at 1:00PM. Open to the public!</p><p>This month's&nbsp;title:</p><ul>    <li>Ten Beach Road ~ Wendy Wax</li></ul><p>&nbsp;</p><p><strong>Organizer</strong>:</p><p>Dawn Dailey<br>Library Director<br>320-762-3014<br><a href="mailto:&#100;&#100;&#97;&#105;&#108;&#101;&#121;&#64;&#100;&#111;&#117;&#103;&#108;&#97;&#115;&#99;&#111;&#117;&#110;&#116;&#121;&#108;&#105;&#98;&#114;&#97;&#114;&#121;&#46;&#111;&#114;&#103;">ddailey@douglascountylibrary.org</a></p>
X-ALT-DESC;FMTTYPE=text/html:<p>Join the Douglas County Library Book Club! Meets the second Wednesday of every month at 1:00PM. Open to the public!</p><p>This month's&nbsp;title:</p><ul>    <li>Ten Beach Road ~ Wendy Wax</li></ul><p>&nbsp;</p><p><strong>Organizer</strong>:</p><p>Dawn Dailey<br>Library Director<br>320-762-3014<br><a href="mailto:&#100;&#100;&#97;&#105;&#108;&#101;&#121;&#64;&#100;&#111;&#117;&#103;&#108;&#97;&#115;&#99;&#111;&#117;&#110;&#116;&#121;&#108;&#105;&#98;&#114;&#97;&#114;&#121;&#46;&#111;&#114;&#103;">ddailey@douglascountylibrary.org</a></p>
LOCATION:Douglas County Library\, 720 Filmore Street Alexandria\, Minnesota 56308
CLASS:PUBLIC
END:VEVENT
END:VCALENDAR
