BEGIN:VCALENDAR
VERSION:2.0
PRODID:Douglas County Library, MN Calendar Creator
METHOD:PUBLISH
BEGIN:VEVENT
DTSTAMP:20230907T094757
DTSTART:20230907T180000
DTEND:20230907T190000
SUMMARY:Beginning Gardening: Harvest & Seed Saving
DESCRIPTION:<p>Experienced gardener Diana Cason will guide you through the beginning steps of harvesting and seed saving.</p><p>&nbsp;</p><p></p>
X-ALT-DESC;FMTTYPE=text/html:<p>Experienced gardener Diana Cason will guide you through the beginning steps of harvesting and seed saving.</p><p>&nbsp;</p><p></p>
LOCATION:Douglas County Library\, 720 Filmore Street Alexandria\, Minnesota 56308
CLASS:PUBLIC
END:VEVENT
END:VCALENDAR
