BEGIN:VCALENDAR
VERSION:2.0
PRODID:Douglas County Library, MN Calendar Creator
METHOD:PUBLISH
BEGIN:VEVENT
DTSTAMP:20230926T105159
DTSTART:20231103T150000
DTEND:20231103T170000
SUMMARY:Memory Loss Resource Day
DESCRIPTION:<p>Come learn about the Memory Loss Resources available at the Douglas County Library.</p><p>Listen to brief presentations at 3:00 and 4:00 with time afterward for questions and a chance to look at the items in the Resource Center.</p><p>Learn about:</p><ul data-editing-info="{&quot;orderedStyleType&quot;:1,&quot;unorderedStyleType&quot;:1}">    <li>Memory Maker Kits</li>    <li>Puzzles, Games, Picture Cards</li>    <li>CDs, DVDs, Magazines</li>    <li>Books</li>    <li>Reference Material</li>    <li>Support information</li></ul><p>This is a great opportunity for those who work in Memory Care, volunteer, or have a loved one diagnosed with with a memory loss condition.</p><p>There is no registration required, no cost to the event, and of course, no cost to use any of the library's resources.</p><p>Come on out and see what the library has available!</p><p>&nbsp;</p>
X-ALT-DESC;FMTTYPE=text/html:<p>Come learn about the Memory Loss Resources available at the Douglas County Library.</p><p>Listen to brief presentations at 3:00 and 4:00 with time afterward for questions and a chance to look at the items in the Resource Center.</p><p>Learn about:</p><ul data-editing-info="{&quot;orderedStyleType&quot;:1,&quot;unorderedStyleType&quot;:1}">    <li>Memory Maker Kits</li>    <li>Puzzles, Games, Picture Cards</li>    <li>CDs, DVDs, Magazines</li>    <li>Books</li>    <li>Reference Material</li>    <li>Support information</li></ul><p>This is a great opportunity for those who work in Memory Care, volunteer, or have a loved one diagnosed with with a memory loss condition.</p><p>There is no registration required, no cost to the event, and of course, no cost to use any of the library's resources.</p><p>Come on out and see what the library has available!</p><p>&nbsp;</p>
LOCATION:Douglas County Library\, 720 Filmore Street Alexandria\, Minnesota 56308
CLASS:PUBLIC
END:VEVENT
END:VCALENDAR
