BEGIN:VCALENDAR
VERSION:2.0
PRODID:Douglas County Library, MN Calendar Creator
METHOD:PUBLISH
BEGIN:VEVENT
DTSTAMP:20230821T104133
DTSTART:20231121T120000
DTEND:20231121T130000
SUMMARY:Tech Tuesday: Online Safety
DESCRIPTION:<p>Learn how to spot common internet and phone scams. Keep yourself, friends, and family safe during the holidays!</p><p>&nbsp;Presented in Partnership with the Douglas County Sheriff's Office</p>
X-ALT-DESC;FMTTYPE=text/html:<p>Learn how to spot common internet and phone scams. Keep yourself, friends, and family safe during the holidays!</p><p>&nbsp;Presented in Partnership with the Douglas County Sheriff's Office</p>
LOCATION:Douglas County Library\, 720 Filmore Street Alexandria\, Minnesota 56308
CLASS:PUBLIC
END:VEVENT
END:VCALENDAR
