BEGIN:VCALENDAR
VERSION:2.0
PRODID:Douglas County Library, MN Calendar Creator
METHOD:PUBLISH
BEGIN:VEVENT
DTSTAMP:20230821T103736
DTSTART:20231024T120000
DTEND:20231024T130000
SUMMARY:Tech Tuesday: Resume Writing
DESCRIPTION:<p>Tips and Tricks for writing a great Resume and Cover Letter! We will look at different templates and go over what should be included in a Resume vs Cover Letter.</p><p>&nbsp;Registration is required to secure the use of a library computer. Or feel free to bring your own device!</p><p>&nbsp;Registration can be found&nbsp;<a href="http://https://douglascountylibrary.libcal.com/event/11174336" target="_blank">HERE</a></p>
X-ALT-DESC;FMTTYPE=text/html:<p>Tips and Tricks for writing a great Resume and Cover Letter! We will look at different templates and go over what should be included in a Resume vs Cover Letter.</p><p>&nbsp;Registration is required to secure the use of a library computer. Or feel free to bring your own device!</p><p>&nbsp;Registration can be found&nbsp;<a href="http://https://douglascountylibrary.libcal.com/event/11174336" target="_blank">HERE</a></p>
LOCATION:Douglas County Library\, 720 Filmore Street Alexandria\, Minnesota 56308
CLASS:PUBLIC
END:VEVENT
END:VCALENDAR
