BEGIN:VCALENDAR
VERSION:2.0
PRODID:Douglas County Library, MN Calendar Creator
METHOD:PUBLISH
BEGIN:VEVENT
DTSTAMP:20230821T103517
DTSTART:20230919T120000
DTEND:20230919T130000
SUMMARY:Tech Tuesday: Powerpoint
DESCRIPTION:<p>Learn the basics of Microsoft's presentation software. Choose a design, add slides, texts, pictures, transitions, and animations.</p><p>Registration is required to secure the use of a library computer. Or feel free to bring your own device!<br><br>Registration can be found&nbsp;<a href="http://https://douglascountylibrary.libcal.com/event/11174329" target="_blank">HERE</a></p>
X-ALT-DESC;FMTTYPE=text/html:<p>Learn the basics of Microsoft's presentation software. Choose a design, add slides, texts, pictures, transitions, and animations.</p><p>Registration is required to secure the use of a library computer. Or feel free to bring your own device!<br><br>Registration can be found&nbsp;<a href="http://https://douglascountylibrary.libcal.com/event/11174329" target="_blank">HERE</a></p>
LOCATION:Douglas County Library\, 720 Filmore Street Alexandria\, Minnesota 56308
CLASS:PUBLIC
END:VEVENT
END:VCALENDAR
