BEGIN:VCALENDAR
VERSION:2.0
PRODID:Douglas County Library, MN Calendar Creator
METHOD:PUBLISH
BEGIN:VEVENT
DTSTAMP:20220726T123736
DTSTART:20221024T183000
DTEND:20221024T200000
SUMMARY:Friends of the Library Book Club
DESCRIPTION:<p>The Friends Book Club meets monthly on the 4th Monday of the month to discuss the book selection. We choose books based on a wide variety of genres, and on their availability through the Viking Library system so no one needs to purchase a book. Discussion questions are usually provided with the book.</p><p>(Meeting dates are only changed when a holiday falls on that Monday and the library would be closed).</p><p>For more details, contact the library at 320-762-3014.</p>
X-ALT-DESC;FMTTYPE=text/html:<p>The Friends Book Club meets monthly on the 4th Monday of the month to discuss the book selection. We choose books based on a wide variety of genres, and on their availability through the Viking Library system so no one needs to purchase a book. Discussion questions are usually provided with the book.</p><p>(Meeting dates are only changed when a holiday falls on that Monday and the library would be closed).</p><p>For more details, contact the library at 320-762-3014.</p>
LOCATION:Douglas County Library\, 720 Filmore Street Alexandria\, Minnesota 56308
CLASS:PUBLIC
END:VEVENT
END:VCALENDAR
