BEGIN:VCALENDAR
VERSION:2.0
PRODID:Douglas County Library, MN Calendar Creator
METHOD:PUBLISH
BEGIN:VEVENT
DTSTAMP:20230804T103830
DTSTART:20230825T100000
DTEND:20230825T110000
SUMMARY:Retire On Your Own Terms
DESCRIPTION:&nbsp;Join us in the Large Conference Room as Guest Speaker Tim Urness&nbsp;goes over the basics of planning and saving for retirement.<p>Tim is a licensed financial cunsultant with years of experience helping people prepare to retire. The session&nbsp;will last around an hour with a few minutes for general questions at the end.</p><p>&nbsp;</p><p>&nbsp;</p><p>No products will be sold at this event.</p>
X-ALT-DESC;FMTTYPE=text/html:&nbsp;Join us in the Large Conference Room as Guest Speaker Tim Urness&nbsp;goes over the basics of planning and saving for retirement.<p>Tim is a licensed financial cunsultant with years of experience helping people prepare to retire. The session&nbsp;will last around an hour with a few minutes for general questions at the end.</p><p>&nbsp;</p><p>&nbsp;</p><p>No products will be sold at this event.</p>
LOCATION:Douglas County Library\, 720 Filmore Street Alexandria\, Minnesota 56308
CLASS:PUBLIC
END:VEVENT
END:VCALENDAR
