BEGIN:VCALENDAR
VERSION:2.0
PRODID:Douglas County Library, MN Calendar Creator
METHOD:PUBLISH
BEGIN:VEVENT
DTSTAMP:20230824T064925
DTSTART:20230826T130000
DTEND:20230826T140000
SUMMARY:Can Koozies: DIY Sublimation
DESCRIPTION:<p>&nbsp;We are making can koozies! Choose from a variety of pre-printed designs or create your own.</p><p>&nbsp;<a href="https://douglascountylibrary.libcal.com/event/11070152" target="_blank">Please register here.</a></p><p>&nbsp;</p><p></p><div unselectable="on" class="rrHandle rrE" style="position: absolute; cursor: e-resize; z-index: auto; height: 7px; width: 7px; top: 28.5px; left: 151.5px;"></div>
X-ALT-DESC;FMTTYPE=text/html:<p>&nbsp;We are making can koozies! Choose from a variety of pre-printed designs or create your own.</p><p>&nbsp;<a href="https://douglascountylibrary.libcal.com/event/11070152" target="_blank">Please register here.</a></p><p>&nbsp;</p><p></p><div unselectable="on" class="rrHandle rrE" style="position: absolute; cursor: e-resize; z-index: auto; height: 7px; width: 7px; top: 28.5px; left: 151.5px;"></div>
LOCATION:Douglas County Library\, 720 Filmore Street Alexandria\, Minnesota 56308
CLASS:PUBLIC
END:VEVENT
END:VCALENDAR
