BEGIN:VCALENDAR
VERSION:2.0
PRODID:Douglas County Library, MN Calendar Creator
METHOD:PUBLISH
BEGIN:VEVENT
DTSTAMP:20220627T124410
DTSTART:20220803T070000
DTEND:20220803T180000
SUMMARY:Friends of the Library Annual Used Book Sale
DESCRIPTION:<p>The Friends of the Library is back with their annual used book sale. This year it is taking place at the Runestone Community Center (RCC) (802 3rd Ave West–Fairgrounds) in Alexandria.</p><p>Open to public! You do not need to be a friend of the library.</p><p>Air-conditioned and plenty of parking!</p><p>There is a bag sale ALL DAY, EVERY DAY! Fill your bags for $5.00 each. Bags provided or bring your own. Larger bags priced higher. No limit to number of bags to fill.</p><p><strong>Organizer</strong>:</p><p>Dawn Dailey<br>Library Director<br>320-762-3014<br><a href="mailto:&#100;&#100;&#97;&#105;&#108;&#101;&#121;&#64;&#100;&#111;&#117;&#103;&#108;&#97;&#115;&#99;&#111;&#117;&#110;&#116;&#121;&#108;&#105;&#98;&#114;&#97;&#114;&#121;&#46;&#111;&#114;&#103;">ddailey@douglascountylibrary.org</a></p>
X-ALT-DESC;FMTTYPE=text/html:<p>The Friends of the Library is back with their annual used book sale. This year it is taking place at the Runestone Community Center (RCC) (802 3rd Ave West–Fairgrounds) in Alexandria.</p><p>Open to public! You do not need to be a friend of the library.</p><p>Air-conditioned and plenty of parking!</p><p>There is a bag sale ALL DAY, EVERY DAY! Fill your bags for $5.00 each. Bags provided or bring your own. Larger bags priced higher. No limit to number of bags to fill.</p><p><strong>Organizer</strong>:</p><p>Dawn Dailey<br>Library Director<br>320-762-3014<br><a href="mailto:&#100;&#100;&#97;&#105;&#108;&#101;&#121;&#64;&#100;&#111;&#117;&#103;&#108;&#97;&#115;&#99;&#111;&#117;&#110;&#116;&#121;&#108;&#105;&#98;&#114;&#97;&#114;&#121;&#46;&#111;&#114;&#103;">ddailey@douglascountylibrary.org</a></p>
LOCATION:Runestone Community Center\, 802 3rd Ave West Alexandria\, Minnesota 56308
CLASS:PUBLIC
END:VEVENT
END:VCALENDAR
