BEGIN:VCALENDAR
VERSION:2.0
PRODID:Douglas County Library, MN Calendar Creator
METHOD:PUBLISH
BEGIN:VEVENT
DTSTAMP:20230718T134535
DTSTART:20230812T130000
DTEND:20230812T140000
SUMMARY:Author Hour with Leif Enger
DESCRIPTION:<p><strong>Author Hour with Leif Enger</strong></p><p>Enjoy an afternoon with award-winning author and Minnesota native Leif Enger. He will discuss the role of libraries in our lives and read a passage from his upcoming novel!</p><p>&nbsp;</p><p>&nbsp;</p><p></p>
X-ALT-DESC;FMTTYPE=text/html:<p><strong>Author Hour with Leif Enger</strong></p><p>Enjoy an afternoon with award-winning author and Minnesota native Leif Enger. He will discuss the role of libraries in our lives and read a passage from his upcoming novel!</p><p>&nbsp;</p><p>&nbsp;</p><p></p>
LOCATION:Douglas County Library\, 720 Filmore Street Alexandria\, Minnesota 56308
CLASS:PUBLIC
END:VEVENT
END:VCALENDAR
