BEGIN:VCALENDAR
VERSION:2.0
PRODID:Douglas County Library, MN Calendar Creator
METHOD:PUBLISH
BEGIN:VEVENT
DTSTAMP:20230620T131153
DTSTART:20230622T160000
DTEND:20230622T170000
SUMMARY:Public Speaking
DESCRIPTION:<p>&nbsp;</p><p></p>
X-ALT-DESC;FMTTYPE=text/html:<p>&nbsp;</p><p></p>
LOCATION:Douglas County Library\, 720 Filmore Street Alexandria\, Minnesota 56308
CLASS:PUBLIC
END:VEVENT
END:VCALENDAR
