BEGIN:VCALENDAR
VERSION:2.0
PRODID:Douglas County Library, MN Calendar Creator
METHOD:PUBLISH
BEGIN:VEVENT
DTSTAMP:20230601T142129
DTSTART:20230909T130000
DTEND:20230909T140000
SUMMARY:Community Read 2023
DESCRIPTION:<p>Community Read 2023</p><p>&nbsp;</p><p>Don’t miss this special Author Hour event!</p><p>We are thrilled to welcome back award-winning author Allen Eskens on Saturday, September 9<sup>th</sup>, at 1:00 pm. Join us for a fun chat and refreshments. </p>
X-ALT-DESC;FMTTYPE=text/html:<p>Community Read 2023</p><p>&nbsp;</p><p>Don’t miss this special Author Hour event!</p><p>We are thrilled to welcome back award-winning author Allen Eskens on Saturday, September 9<sup>th</sup>, at 1:00 pm. Join us for a fun chat and refreshments. </p>
LOCATION:Douglas County Library\, 720 Filmore Street Alexandria\, Minnesota 56308
CLASS:PUBLIC
END:VEVENT
END:VCALENDAR
