BEGIN:VCALENDAR
VERSION:2.0
PRODID:Douglas County Library, MN Calendar Creator
METHOD:PUBLISH
BEGIN:VEVENT
DTSTAMP:20230525T134739
DTSTART:20230607T160000
DTEND:20230607T180000
SUMMARY:Summer Vibes Adult Craft
DESCRIPTION:<p>Summer Vibes Adult Craft</p><p>&nbsp;</p><p>The first day of summer is almost here! Come join us, we'll use wood and paint to get in the summer mood.</p><p>&nbsp;</p><p>Wednesday, June 7</p><p>4 pm - 6 pm</p><p>in the Large Meeting Room</p><p>&nbsp;</p><p>Please register <a href="https://douglascountylibrary.libcal.com/event/10804864" target="_blank">here</a>.</p><p>&nbsp;</p><p>&nbsp;</p>
X-ALT-DESC;FMTTYPE=text/html:<p>Summer Vibes Adult Craft</p><p>&nbsp;</p><p>The first day of summer is almost here! Come join us, we'll use wood and paint to get in the summer mood.</p><p>&nbsp;</p><p>Wednesday, June 7</p><p>4 pm - 6 pm</p><p>in the Large Meeting Room</p><p>&nbsp;</p><p>Please register <a href="https://douglascountylibrary.libcal.com/event/10804864" target="_blank">here</a>.</p><p>&nbsp;</p><p>&nbsp;</p>
LOCATION:Douglas County Library\, 720 Filmore Street Alexandria\, Minnesota 56308
CLASS:PUBLIC
END:VEVENT
END:VCALENDAR
