BEGIN:VCALENDAR
VERSION:2.0
PRODID:Douglas County Library, MN Calendar Creator
METHOD:PUBLISH
BEGIN:VEVENT
DTSTAMP:20220627T122034
DTSTART:20220725T183000
DTEND:20220725T200000
SUMMARY:Friends of the Library Book Club
DESCRIPTION:<p>The Friends Book Club meets monthly on the 4th Monday of the month to discuss the book selection. We choose books based on a wide variety of genres, and on their availability through the Viking Library system so no one needs to purchase a book. Discussion questions are usually provided with the book.</p><p>(Meeting dates are only changed when a holiday falls on that Monday and the library would be closed).</p><p><strong>Organizer</strong>:</p><p>Dawn Dailey<br>Library Director<br>320-762-3014<br><a href="mailto:&#100;&#100;&#97;&#105;&#108;&#101;&#121;&#64;&#100;&#111;&#117;&#103;&#108;&#97;&#115;&#99;&#111;&#117;&#110;&#116;&#121;&#108;&#105;&#98;&#114;&#97;&#114;&#121;&#46;&#111;&#114;&#103;">ddailey@douglascountylibrary.org</a></p>
X-ALT-DESC;FMTTYPE=text/html:<p>The Friends Book Club meets monthly on the 4th Monday of the month to discuss the book selection. We choose books based on a wide variety of genres, and on their availability through the Viking Library system so no one needs to purchase a book. Discussion questions are usually provided with the book.</p><p>(Meeting dates are only changed when a holiday falls on that Monday and the library would be closed).</p><p><strong>Organizer</strong>:</p><p>Dawn Dailey<br>Library Director<br>320-762-3014<br><a href="mailto:&#100;&#100;&#97;&#105;&#108;&#101;&#121;&#64;&#100;&#111;&#117;&#103;&#108;&#97;&#115;&#99;&#111;&#117;&#110;&#116;&#121;&#108;&#105;&#98;&#114;&#97;&#114;&#121;&#46;&#111;&#114;&#103;">ddailey@douglascountylibrary.org</a></p>
LOCATION:Douglas County Library\, 720 Filmore Street Alexandria\, Minnesota 56308
CLASS:PUBLIC
END:VEVENT
END:VCALENDAR
