BEGIN:VCALENDAR
VERSION:2.0
PRODID:Douglas County Library, MN Calendar Creator
METHOD:PUBLISH
BEGIN:VEVENT
DTSTAMP:20230518T143939
DTSTART:20230720T150000
DTEND:20230720T170000
SUMMARY:Library Board Meeting
DESCRIPTION:The Douglas County Library Board meets on the third Thursday of every month for June, July and August 2023, beginning at 3:00PM. The September 2023 meeting may have a different start time.<br><br>The public is welcome to attend. If you have something you'd like to present to the Board, please contact library Director Dawn Dailey at <a href="mailto:&#100;&#100;&#97;&#105;&#108;&#101;&#121;&#64;&#100;&#111;&#117;&#103;&#108;&#97;&#115;&#99;&#111;&#117;&#110;&#116;&#121;&#108;&#105;&#98;&#114;&#97;&#114;&#121;&#46;&#111;&#114;&#103;">ddailey@douglascountylibrary.org</a>.
X-ALT-DESC;FMTTYPE=text/html:The Douglas County Library Board meets on the third Thursday of every month for June, July and August 2023, beginning at 3:00PM. The September 2023 meeting may have a different start time.<br><br>The public is welcome to attend. If you have something you'd like to present to the Board, please contact library Director Dawn Dailey at <a href="mailto:&#100;&#100;&#97;&#105;&#108;&#101;&#121;&#64;&#100;&#111;&#117;&#103;&#108;&#97;&#115;&#99;&#111;&#117;&#110;&#116;&#121;&#108;&#105;&#98;&#114;&#97;&#114;&#121;&#46;&#111;&#114;&#103;">ddailey@douglascountylibrary.org</a>.
LOCATION:Douglas County Library\, 720 Filmore Street Alexandria\, Minnesota 56308
CLASS:PUBLIC
END:VEVENT
END:VCALENDAR
