BEGIN:VCALENDAR
VERSION:2.0
PRODID:Douglas County Library, MN Calendar Creator
METHOD:PUBLISH
BEGIN:VEVENT
DTSTAMP:20230511T110210
DTSTART:20230524T150000
DTEND:20230524T170000
SUMMARY:Spring Ceramics for Adults
DESCRIPTION:<p>This event is free for all patrons.</p><p><a href="https://douglascountylibrary.libcal.com/event/10749605" target="_blank">&nbsp;Registration is required.</a></p><p><a href="https://douglascountylibrary.libcal.com/event/10749605" target="_blank">&nbsp;</a></p>
X-ALT-DESC;FMTTYPE=text/html:<p>This event is free for all patrons.</p><p><a href="https://douglascountylibrary.libcal.com/event/10749605" target="_blank">&nbsp;Registration is required.</a></p><p><a href="https://douglascountylibrary.libcal.com/event/10749605" target="_blank">&nbsp;</a></p>
LOCATION:Douglas County Library\, 720 Filmore Street Alexandria\, Minnesota 56308
CLASS:PUBLIC
END:VEVENT
END:VCALENDAR
