BEGIN:VCALENDAR
VERSION:2.0
PRODID:Douglas County Library, MN Calendar Creator
METHOD:PUBLISH
BEGIN:VEVENT
DTSTAMP:20230525T133808
DTSTART:20230520T090000
DTEND:20230520T140000
SUMMARY:Maker Lab
DESCRIPTION:<p>&nbsp;</p><p>Get a personal walkthrough of the library's crafting technology! Try out a sewing machine, 3D printer, Cricut cutting machine, or a laser engraving machine! Leave with a custom made craft!</p><p>&nbsp;</p><p>Register for a 30 minute session with the machine of your choice <a href="https://douglascountylibrary.libcal.com/calendar?cid=16929" target="_blank">HERE</a></p>
X-ALT-DESC;FMTTYPE=text/html:<p>&nbsp;</p><p>Get a personal walkthrough of the library's crafting technology! Try out a sewing machine, 3D printer, Cricut cutting machine, or a laser engraving machine! Leave with a custom made craft!</p><p>&nbsp;</p><p>Register for a 30 minute session with the machine of your choice <a href="https://douglascountylibrary.libcal.com/calendar?cid=16929" target="_blank">HERE</a></p>
LOCATION:Douglas County Library\, 720 Filmore Street Alexandria\, Minnesota 56308
CLASS:PUBLIC
END:VEVENT
END:VCALENDAR
