BEGIN:VCALENDAR
VERSION:2.0
PRODID:Douglas County Library, MN Calendar Creator
METHOD:PUBLISH
BEGIN:VEVENT
DTSTAMP:20230508T152348
DTSTART:20230510T150000
DTEND:20230510T160000
SUMMARY:Introduction to Sublimation: Garden Flag
DESCRIPTION:
X-ALT-DESC;FMTTYPE=text/html:
LOCATION:Douglas County Library\, 720 Filmore Street Alexandria\, Minnesota 56308
CLASS:PUBLIC
END:VEVENT
END:VCALENDAR
